BEGIN:VCALENDAR
PRODID:-//Pixl8//Eventfolio//EN
VERSION:2.0
X-WR-TIMEZONE:Europe/London
CALSCALE:GREGORIAN
METHOD:PUBLISH
CLASS:PUBLIC
BEGIN:VTIMEZONE
TZID:Europe/London
LAST-MODIFIED:20260306T231828Z
TZURL:https://www.tzurl.org/zoneinfo-outlook/Europe/London
X-LIC-LOCATION:Europe/London
BEGIN:DAYLIGHT
TZNAME:BST
TZOFFSETFROM:+0000
TZOFFSETTO:+0100
DTSTART:19700329T010000
RRULE:FREQ=YEARLY;BYMONTH=3;BYDAY=-1SU
END:DAYLIGHT
BEGIN:STANDARD
TZNAME:GMT
TZOFFSETFROM:+0100
TZOFFSETTO:+0000
DTSTART:19701025T020000
RRULE:FREQ=YEARLY;BYMONTH=10;BYDAY=-1SU
END:STANDARD
END:VTIMEZONE
BEGIN:VEVENT
DTSTART;TZID=Europe/London;VALUE=DATE:20250415
DTEND;TZID=Europe/London;VALUE=DATE:20250418
DTSTAMP:20260420T111536Z
UID:{EE30F2E2-E4E4-4FDA-A1580AA3FA5EA647}
LOCATION:Loughborough
SUMMARY:Ex Repair Training Refresher (15-04-25)
DESCRIPTION:For delegates requiring a three-year refresher course and a reassessment of their ability, to renew their certificate.\n
 \n
 Event details: https://www.theaemt.com/ems-event-calendar/ex-repair-training-refresher-15-04-25.html
PRIORITY:1
END:VEVENT
END:VCALENDAR